BEGIN:VCALENDAR
VERSION:2.0
PRODID:-//EMMA Global - ECPv6.15.20//NONSGML v1.0//EN
CALSCALE:GREGORIAN
METHOD:PUBLISH
X-ORIGINAL-URL:https://www.emmanet.info
X-WR-CALDESC:Veranstaltungen für EMMA Global
REFRESH-INTERVAL;VALUE=DURATION:PT1H
X-Robots-Tag:noindex
X-PUBLISHED-TTL:PT1H
BEGIN:VTIMEZONE
TZID:Europe/Berlin
BEGIN:DAYLIGHT
TZOFFSETFROM:+0100
TZOFFSETTO:+0200
TZNAME:CEST
DTSTART:20250330T010000
END:DAYLIGHT
BEGIN:STANDARD
TZOFFSETFROM:+0200
TZOFFSETTO:+0100
TZNAME:CET
DTSTART:20251026T010000
END:STANDARD
BEGIN:DAYLIGHT
TZOFFSETFROM:+0100
TZOFFSETTO:+0200
TZNAME:CEST
DTSTART:20260329T010000
END:DAYLIGHT
BEGIN:STANDARD
TZOFFSETFROM:+0200
TZOFFSETTO:+0100
TZNAME:CET
DTSTART:20261025T010000
END:STANDARD
BEGIN:DAYLIGHT
TZOFFSETFROM:+0100
TZOFFSETTO:+0200
TZNAME:CEST
DTSTART:20270328T010000
END:DAYLIGHT
BEGIN:STANDARD
TZOFFSETFROM:+0200
TZOFFSETTO:+0100
TZNAME:CET
DTSTART:20271031T010000
END:STANDARD
END:VTIMEZONE
BEGIN:VEVENT
DTSTART;VALUE=DATE:20260325
DTEND;VALUE=DATE:20260327
DTSTAMP:20260423T083002
CREATED:20251201T165056Z
LAST-MODIFIED:20260205T095908Z
UID:32378-1774396800-1774569599@www.emmanet.info
SUMMARY:International Head Judge training 2026
DESCRIPTION:  \nThe international judges training for head judges will take place on Wednesday and Thursday\, March 25 and 26\, in Salzburg\, Austria. The training will cover how to handle the new music titles as well as updates to the rules. Only judges who have been nominated by the national associations or invited by EMMA can participate. In addition\, participants must have been active EMMA judges for at least three years in order to obtain permission to conduct their own training sessions. All other participants will receive the status of international judge without instructor approval. The signup ends February 28. A later subscription is not possible. \nThe participants will be educated to become official international EMMA Head Judges. The registration of participants must be confirmed by the official National EMMA affiliate. The Location is the Salzburg Fair (Messezentrum) where also the Eurofinals and CarMediaWorld Exhibition will take place on March 27-29. The beginning of the Training lessons is daily 9°° and will end at about 18°°. The participation fee is 249\,00.-€ and includes: \n2x  times Lunch\nUSB Media \n1 EMMA Shirt\n1 Dinner on March 26 for the certificate ceremony \nThe payment can only be done in cash at the registration. \n 
URL:https://www.emmanet.info/event/international-head-judge-training-2026/
LOCATION:Messezentrum Salzburg\, Am Messezentrum 1\, Salzburg\, 5020\, Austria
CATEGORIES:EMMA Sound Off
ATTACH;FMTTYPE=image/jpeg:https://www.emmanet.info/wp-content/uploads/2022/05/HeadJudgetraining2022-020-1-scaled.jpg
END:VEVENT
END:VCALENDAR