BEGIN:VCALENDAR
VERSION:2.0
PRODID:-//EMMA Global - ECPv6.15.20//NONSGML v1.0//EN
CALSCALE:GREGORIAN
METHOD:PUBLISH
X-ORIGINAL-URL:https://www.emmanet.info
X-WR-CALDESC:Veranstaltungen für EMMA Global
REFRESH-INTERVAL;VALUE=DURATION:PT1H
X-Robots-Tag:noindex
X-PUBLISHED-TTL:PT1H
BEGIN:VTIMEZONE
TZID:Europe/Berlin
BEGIN:DAYLIGHT
TZOFFSETFROM:+0100
TZOFFSETTO:+0200
TZNAME:CEST
DTSTART:20250330T010000
END:DAYLIGHT
BEGIN:STANDARD
TZOFFSETFROM:+0200
TZOFFSETTO:+0100
TZNAME:CET
DTSTART:20251026T010000
END:STANDARD
BEGIN:DAYLIGHT
TZOFFSETFROM:+0100
TZOFFSETTO:+0200
TZNAME:CEST
DTSTART:20260329T010000
END:DAYLIGHT
BEGIN:STANDARD
TZOFFSETFROM:+0200
TZOFFSETTO:+0100
TZNAME:CET
DTSTART:20261025T010000
END:STANDARD
BEGIN:DAYLIGHT
TZOFFSETFROM:+0100
TZOFFSETTO:+0200
TZNAME:CEST
DTSTART:20270328T010000
END:DAYLIGHT
BEGIN:STANDARD
TZOFFSETFROM:+0200
TZOFFSETTO:+0100
TZNAME:CET
DTSTART:20271031T010000
END:STANDARD
END:VTIMEZONE
BEGIN:VEVENT
DTSTART;VALUE=DATE:20260718
DTEND;VALUE=DATE:20260719
DTSTAMP:20260423T100634
CREATED:20260124T175152Z
LAST-MODIFIED:20260124T210757Z
UID:32580-1784332800-1784419199@www.emmanet.info
SUMMARY:EMMA Germany Sound Off
DESCRIPTION:
URL:https://www.emmanet.info/event/emma-germany-sound-off-4/
LOCATION:Horsch und Guck\, Nova Shoppingcenter\, Leuna OT Günthersdorf\, 06237\, Germany
CATEGORIES:EMMA Sound Off
ATTACH;FMTTYPE=image/png:https://fsn1.your-objectstorage.com/emmanetinfo/wp-content/uploads/2026/01/emmagermanysrg.png
END:VEVENT
END:VCALENDAR